BEGIN:VCALENDAR
VERSION:2.0
PRODID:-//alfaklubas.lt - ECPv6.15.20//NONSGML v1.0//EN
CALSCALE:GREGORIAN
METHOD:PUBLISH
X-WR-CALNAME:alfaklubas.lt
X-ORIGINAL-URL:https://alfaklubas.lt
X-WR-CALDESC:alfaklubas.lt renginiai
REFRESH-INTERVAL;VALUE=DURATION:PT1H
X-Robots-Tag:noindex
X-PUBLISHED-TTL:PT1H
BEGIN:VTIMEZONE
TZID:Europe/Helsinki
BEGIN:DAYLIGHT
TZOFFSETFROM:+0200
TZOFFSETTO:+0300
TZNAME:EEST
DTSTART:20250330T010000
END:DAYLIGHT
BEGIN:STANDARD
TZOFFSETFROM:+0300
TZOFFSETTO:+0200
TZNAME:EET
DTSTART:20251026T010000
END:STANDARD
BEGIN:DAYLIGHT
TZOFFSETFROM:+0200
TZOFFSETTO:+0300
TZNAME:EEST
DTSTART:20260329T010000
END:DAYLIGHT
BEGIN:STANDARD
TZOFFSETFROM:+0300
TZOFFSETTO:+0200
TZNAME:EET
DTSTART:20261025T010000
END:STANDARD
BEGIN:DAYLIGHT
TZOFFSETFROM:+0200
TZOFFSETTO:+0300
TZNAME:EEST
DTSTART:20270328T010000
END:DAYLIGHT
BEGIN:STANDARD
TZOFFSETFROM:+0300
TZOFFSETTO:+0200
TZNAME:EET
DTSTART:20271031T010000
END:STANDARD
END:VTIMEZONE
BEGIN:VEVENT
DTSTART;TZID=Europe/Helsinki:20260425T110000
DTEND;TZID=Europe/Helsinki:20260425T143000
DTSTAMP:20260422T152444
CREATED:20260401T104413Z
LAST-MODIFIED:20260401T104413Z
UID:3244-1777114800-1777127400@alfaklubas.lt
SUMMARY:Alfa Romeo klubo sezono atidarymas 2026
DESCRIPTION:Sveiki\, alfistai\, tikimės žiema neprailgo\, o saulė jau aktyviai šaukia grįžti į gatves\, todėl balandžio 25d. Šeštadienį 11:00val. kviečiame visus atidaryti naująjį 2026-ųjų sezoną Trakų Vokės dvaro sodyboje. Kaip jau įprasta Alfa Romeo klubas pasirūpins veiklomis\, žaidimais\, pramogomis\, prizais ir siurprizais\, o tau tereikia atvykti ir pasimėgauti reginiu! \nRenginys atviras ir nemokamas visiems\, net jei Alfa Romeo dar tik planuose!\nRenginio trukmė:11:00-14:30\nDaugiau informacijos apie renginio programą įkelsime artimiausiu metu ir tikimės pamatyti visus jau kiek mažiau nei po mėnesio! Ciao! 
URL:https://alfaklubas.lt/renginys/alfa-romeo-klubo-sezono-atidarymas-2026/
LOCATION:Trakų vokės dvaro sodyba\, Žalioji a. 2A\, Vilnius\, Lithuania
ATTACH;FMTTYPE=image/png:https://alfaklubas.lt/wp-content/uploads/2026/04/atidarymasfb2026-1.png
END:VEVENT
BEGIN:VEVENT
DTSTART;TZID=Europe/Helsinki:20260425T150000
DTEND;TZID=Europe/Helsinki:20260425T170000
DTSTAMP:20260422T152444
CREATED:20260325T065130Z
LAST-MODIFIED:20260325T065130Z
UID:3240-1777129200-1777136400@alfaklubas.lt
SUMMARY:Klubo visuotinis susirinkimas
DESCRIPTION:Šių metų balandžio 25d. 15:00 yra šaukiamas eilinis visuotinis klubo narių susirinkimas\, kuris įvyks sodybos Trakų vokės dvaro sodyboje. Susirinkimo metu bus aptariami 2025m. klubo finansai\, 2026m. klubo finansai ir kiti klausimai. Klubo narių dalyvavimas yra privalomas.
URL:https://alfaklubas.lt/renginys/klubo-visuotinis-susirinkimas-2/
LOCATION:Trakų vokės dvaro sodyba\, Žalioji a. 2A\, Vilnius\, Lithuania
ATTACH;FMTTYPE=image/png:https://alfaklubas.lt/wp-content/uploads/2025/11/LOGO51.png
END:VEVENT
END:VCALENDAR